BEGIN:VCALENDAR
VERSION:2.0
PRODID:-//ChamberMaster//Event Calendar 2.0//EN
METHOD:PUBLISH
X-PUBLISHED-TTL:P3D
REFRESH-INTERVAL:P3D
CALSCALE:GREGORIAN
BEGIN:VEVENT
DTSTART:20200408T130000Z
DTEND:20200408T140000Z
X-MICROSOFT-CDO-ALLDAYEVENT:FALSE
SUMMARY:Virtual Milton Breakfast Club - April 2020
DESCRIPTION:Milton Breakfast Club\n\nPresented in partnership with Bensol Consulting\n\nWednesday\, April 8\, 2020\n\n9:00 AM -10:00 AM\n\nTHIS IS A VIRTUAL MEETING
X-ALT-DESC;FMTTYPE=text/html:Milton Breakfast Club<br />\nPresented in partnership with Bensol Consulting<br />\nWednesday\, April 8\, 2020<br />\n9:00 AM -10:00 AM<br />\nTHIS IS A VIRTUAL MEETING<br />\n<br />\n&nbsp\;
LOCATION:
UID:e.3447.98
SEQUENCE:3
DTSTAMP:20260420T172553Z
URL:https://business.miltonchamber.ca/events/details/virtual-milton-breakfast-club-april-2020-98
END:VEVENT

END:VCALENDAR
