BEGIN:VCALENDAR
VERSION:2.0
PRODID:-//ChamberMaster//Event Calendar 2.0//EN
METHOD:PUBLISH
X-PUBLISHED-TTL:P3D
REFRESH-INTERVAL:P3D
CALSCALE:GREGORIAN
BEGIN:VEVENT
DTSTART:20260529T190000Z
DTEND:20260529T210000Z
X-MICROSOFT-CDO-ALLDAYEVENT:FALSE
SUMMARY:Sweat Social - Kelso Challenge Course & Archery
DESCRIPTION:
X-ALT-DESC;FMTTYPE=text/html:
LOCATION:Kelso Conservation Area 5234 Kelso Rd\, Milton\, ON L9E 0C6 Meet at the Trailhead Retail Store in Kelso Conservation Area. Parking is available in front of the building.
UID:e.3447.435
SEQUENCE:3
DTSTAMP:20260424T190144Z
URL:https://business.miltonchamber.ca/events/details/sweat-social-kelso-challenge-course-archery-435
END:VEVENT

END:VCALENDAR
