BEGIN:VCALENDAR
VERSION:2.0
PRODID:-//ChamberMaster//Event Calendar 2.0//EN
METHOD:PUBLISH
X-PUBLISHED-TTL:P3D
REFRESH-INTERVAL:P3D
CALSCALE:GREGORIAN
BEGIN:VEVENT
DTSTART:20260424T180000Z
DTEND:20260424T200000Z
X-MICROSOFT-CDO-ALLDAYEVENT:FALSE
SUMMARY:Sweat Social - Intro to Yoga
DESCRIPTION:Join us to sweat\, connect and have a blast while doing it! Try out a free Yoga class at Life Yoga Studio.\n\nDress: please wear workout clothing that doesn't restrict the movement. Please wear socks as we don't use any running shoes at the studio.
X-ALT-DESC;FMTTYPE=text/html:<p class="cvGsUA direction-ltr align-center para-style-body" style="color: rgb(255\, 255\, 255)\; font-family: &quot\;YAFJBE5L7JM 0&quot\;\, _fb_\, auto\; --font-size: 26.6667px\; --line-height: 1.4\; line-height: 37px\;"><span style="color: rgb(0\, 0\, 0)\;"><span style="font-size: 14px\;"><span style="font-family: arial\;">Join us to sweat\, connect and have a blast while doing it! Try out a&nbsp\;<u>free</u>&nbsp\;Yoga class at Life Yoga Studio.</span></span></span><br />\n<span style="font-size:14px\;"><span style="color:#FF0000\;"><strong>Dress:</strong>&nbsp\;please wear workout clothing that doesn&#39\;t restrict the movement. Please wear socks as we don&#39\;t use any running shoes at the studio<b>.</b></span></span></p>\n
LOCATION:Life Yoga & Reformer Pilates Studio 61 James Snow Parkway N
UID:e.3447.429
SEQUENCE:3
DTSTAMP:20260424T030519Z
URL:https://business.miltonchamber.ca/events/details/sweat-social-intro-to-yoga-429
END:VEVENT

END:VCALENDAR
