BEGIN:VCALENDAR
VERSION:2.0
PRODID:-//ChamberMaster//Event Calendar 2.0//EN
METHOD:PUBLISH
X-PUBLISHED-TTL:P3D
REFRESH-INTERVAL:P3D
CALSCALE:GREGORIAN
BEGIN:VEVENT
DTSTART:20250430T123000Z
DTEND:20250430T143000Z
X-MICROSOFT-CDO-ALLDAYEVENT:FALSE
SUMMARY:State of the Economy
DESCRIPTION:Hear from experts to understand the present and future state of our economy.
X-ALT-DESC;FMTTYPE=text/html:<span class="OYPEnA font-feature-liga-off font-feature-clig-off font-feature-calt-off text-decoration-none text-strikethrough-none" style="font-kerning: none\;">Hear from experts to understand the present and future state of our economy.</span>
LOCATION:Piper's Heath Golf Club 5501 Trafalgar Rd\, Milton\, ON L9E 0Z5
UID:e.3447.388
SEQUENCE:3
DTSTAMP:20260420T125805Z
URL:https://business.miltonchamber.ca/events/details/state-of-the-economy-388
END:VEVENT

END:VCALENDAR
