BEGIN:VCALENDAR
VERSION:2.0
PRODID:-//ChamberMaster//Event Calendar 2.0//EN
METHOD:PUBLISH
X-PUBLISHED-TTL:P3D
REFRESH-INTERVAL:P3D
CALSCALE:GREGORIAN
BEGIN:VEVENT
DTSTART:20210616T203000Z
DTEND:20210616T210000Z
X-MICROSOFT-CDO-ALLDAYEVENT:FALSE
SUMMARY:Re-opening Halton with Dr. Deepika Lobo
DESCRIPTION:Thank you for registering for Re-Opening Halton with Dr. Deepika Lobo\, taking place on Wednesday\, June 16 at 4:30pm-5:00pm. Please see below for meeting details:\n\n \n\nZoom Link: https://us02web.zoom.us/j/87135872029?pwd=UHNSWE5KOWNzc2REQ0Q3b3o4R1hFQT09\n\nMeeting ID: 871 3587 2029\n\nPasscode: 487483\n\n \n\nTo dial by location\, follow this link.
X-ALT-DESC;FMTTYPE=text/html:Thank you for registering for <em>Re-Opening Halton with Dr. Deepika Lobo</em>\, taking place on Wednesday\, June 16 at 4:30pm-5:00pm. Please see below for meeting details:<br />\n&nbsp\;<br />\n<strong>Zoom Link: </strong><a href="https://can01.safelinks.protection.outlook.com/?url=https%3A%2F%2Fus02web.zoom.us%2Fj%2F87135872029%3Fpwd%3DUHNSWE5KOWNzc2REQ0Q3b3o4R1hFQT09&amp\;data=04%7C01%7Ckrista%40miltonchamber.ca%7C1ee0818f47a341d29da208d93019ca8f%7C7f42a784a92f45b982d3f75aef54b7fa%7C0%7C0%7C637593709599180678%7CUnknown%7CTWFpbGZsb3d8eyJWIjoiMC4wLjAwMDAiLCJQIjoiV2luMzIiLCJBTiI6Ik1haWwiLCJXVCI6Mn0%3D%7C1000&amp\;sdata=VgXNW6crjUloYlhe7RXGZ3jw367FMgoIGF1xBITrdY4%3D&amp\;reserved=0">https://us02web.zoom.us/j/87135872029?pwd=UHNSWE5KOWNzc2REQ0Q3b3o4R1hFQT09</a><br />\n<strong>Meeting ID:</strong> 871 3587 2029<br />\n<strong>Passcode:</strong> 487483<br />\n&nbsp\;<br />\nTo dial by location\, follow this <a href="https://can01.safelinks.protection.outlook.com/?url=https%3A%2F%2Fus02web.zoom.us%2Fu%2FkcvmLuwIkG&amp\;data=04%7C01%7Ckrista%40miltonchamber.ca%7C1ee0818f47a341d29da208d93019ca8f%7C7f42a784a92f45b982d3f75aef54b7fa%7C0%7C0%7C637593709599190674%7CUnknown%7CTWFpbGZsb3d8eyJWIjoiMC4wLjAwMDAiLCJQIjoiV2luMzIiLCJBTiI6Ik1haWwiLCJXVCI6Mn0%3D%7C1000&amp\;sdata=EdiJwp2ATbHdRTytrUt5PsW0takf9cheE%2FWotb1G%2Bf8%3D&amp\;reserved=0"><span style="color:windowtext\;">link</span></a>.
LOCATION:
UID:e.3447.212
SEQUENCE:3
DTSTAMP:20260421T061448Z
URL:https://business.miltonchamber.ca/events/details/re-opening-halton-with-dr-deepika-lobo-212
END:VEVENT

END:VCALENDAR
