BEGIN:VCALENDAR
VERSION:2.0
PRODID:-//ChamberMaster//Event Calendar 2.0//EN
METHOD:PUBLISH
X-PUBLISHED-TTL:P3D
REFRESH-INTERVAL:P3D
CALSCALE:GREGORIAN
BEGIN:VEVENT
DTSTART:20240306T133000Z
DTEND:20240306T153000Z
X-MICROSOFT-CDO-ALLDAYEVENT:FALSE
SUMMARY:Power Panel Breakfast
DESCRIPTION:Power Panel: Conversations with Women in Business\n\nBuild your network\, hear their stories. Our upcoming breakfast is aimed at fostering networking connections and giving a platform for women's lived experiences in the business world. All are welcome to attend.
X-ALT-DESC;FMTTYPE=text/html:<strong>Power Panel:&nbsp\;<span class="OYPEnA text-decoration-none text-strikethrough-none">Conversations with Women in Business</span></strong><br />\nBuild your network\, hear their stories. Our upcoming breakfast is aimed at fostering networking connections and giving a platform for women&rsquo\;s lived experiences in the business world. All are welcome to attend.
LOCATION:Piper's Heath Golf Club 5501 Trafalgar Rd\, Milton\, ON L9E 0Z5
UID:e.3447.345
SEQUENCE:3
DTSTAMP:20260419T185013Z
URL:https://business.miltonchamber.ca/events/details/power-panel-breakfast-345
END:VEVENT

END:VCALENDAR
