BEGIN:VCALENDAR
VERSION:2.0
PRODID:-//ChamberMaster//Event Calendar 2.0//EN
METHOD:PUBLISH
X-PUBLISHED-TTL:P3D
REFRESH-INTERVAL:P3D
CALSCALE:GREGORIAN
BEGIN:VEVENT
DTSTART:20260415T151500Z
DTEND:20260415T164500Z
X-MICROSOFT-CDO-ALLDAYEVENT:FALSE
SUMMARY:Lunch & Learn - Communicating with AI: A Practical Guide
DESCRIPTION:Communicating with AI: A Practical Guide\n\nJoin CNDP Consulting Inc. for an interactive learning session on how to use AI for your business. You'll learn how to develop the knowledge and skills needed to communicate effectively with Large Language Models and generate responses that are relevant\, customized\, and insightful. \n\n \n\nWe'll explore how to create effective prompts across different use cases and roles such as project management\, HR\, operations\, and more. In this one-hour training session\, you'll engage in interactive activities\, informal knowledge checks\, and a take-home exercise to reinforce learning and build confidence in working with AI.
X-ALT-DESC;FMTTYPE=text/html:<p data-end="44" data-start="0"><strong data-end="44" data-start="0">Communicating with AI: A Practical Guide</strong></p>\n\n<p data-end="348" data-start="46"><span style="color:#26282A\;"><span style="font-family:times new roman\,serif\;"><span style="font-size:10.0pt\;">Join CNDP Consulting Inc<strong>. </strong>for an interactive learning session on how to use AI for your business. You&#39\;ll learn how to develop the knowledge and skills needed to communicate effectively with Large Language Models and generate responses that are relevant\, customized\, and insightful.&nbsp\;</span></span></span><br />\n&nbsp\;<br />\n<span style="color:#26282A\;"><span style="font-family:times new roman\,serif\;"><span style="font-size:10.0pt\;">We&#39\;ll explore how to create effective prompts across different use cases and roles&mdash\;such as project management\, HR\, operations\, and more. In this one-hour training session\, you&rsquo\;ll engage in interactive activities\, informal knowledge checks\, and&nbsp\;a take-home exercise to reinforce learning and build confidence in working with AI.&nbsp\;</span></span></span></p>\n
LOCATION:Landscape Ontario 7856 Fifth Line\, Milton\, ON L9T 2X8
UID:e.3447.430
SEQUENCE:3
DTSTAMP:20260424T025152Z
URL:https://business.miltonchamber.ca/events/details/lunch-learn-communicating-with-ai-a-practical-guide-430
END:VEVENT

END:VCALENDAR
