BEGIN:VCALENDAR
VERSION:2.0
PRODID:-//ChamberMaster//Event Calendar 2.0//EN
METHOD:PUBLISH
X-PUBLISHED-TTL:P3D
REFRESH-INTERVAL:P3D
CALSCALE:GREGORIAN
BEGIN:VEVENT
DTSTART;VALUE=DATE:20250704
DTEND;VALUE=DATE:20250705
TRANSP:TRANSPARENT
X-MICROSOFT-CDO-ALLDAYEVENT:TRUE
SUMMARY:Excellence Awards Nomination Deadline
DESCRIPTION:
X-ALT-DESC;FMTTYPE=text/html:
LOCATION:We are now accepting nominations for the 2025 Milton Excellence Awards. Nominate a business\, not-for-profit\, or individual for one of the many esteemed award categories. Nominees do not need to be members of the Milton Chamber. Nominations are due July 4th. Nominate and learn more here.
UID:e.3447.360
SEQUENCE:3
DTSTAMP:20260419T134113Z
URL:https://business.miltonchamber.ca/events/details/excellence-awards-nomination-deadline-360
END:VEVENT

END:VCALENDAR
