BEGIN:VCALENDAR
VERSION:2.0
PRODID:-//ChamberMaster//Event Calendar 2.0//EN
METHOD:PUBLISH
X-PUBLISHED-TTL:P3D
REFRESH-INTERVAL:P3D
CALSCALE:GREGORIAN
BEGIN:VEVENT
DTSTART:20260324T203000Z
DTEND:20260324T223000Z
X-MICROSOFT-CDO-ALLDAYEVENT:FALSE
SUMMARY:Business After Hours - March 2026
DESCRIPTION:Hosted by Risposta Bistro
X-ALT-DESC;FMTTYPE=text/html:Hosted by Risposta Bistro
LOCATION:Risposta Bistro 24 Crawford Crescent\, Campbellville
UID:e.3447.425
SEQUENCE:3
DTSTAMP:20260419T123634Z
URL:https://business.miltonchamber.ca/events/details/business-after-hours-march-2026-425
END:VEVENT

END:VCALENDAR
