BEGIN:VCALENDAR
VERSION:2.0
PRODID:-//ChamberMaster//Event Calendar 2.0//EN
METHOD:PUBLISH
X-PUBLISHED-TTL:P3D
REFRESH-INTERVAL:P3D
CALSCALE:GREGORIAN
BEGIN:VEVENT
DTSTART:20250611T153000Z
DTEND:20250611T223000Z
X-MICROSOFT-CDO-ALLDAYEVENT:FALSE
SUMMARY:36th Annual Golf Tournament
DESCRIPTION:
X-ALT-DESC;FMTTYPE=text/html:
LOCATION:Granite Ridge Golf Club 9503 Dublin Line
UID:e.3447.385
SEQUENCE:3
DTSTAMP:20260419T190720Z
URL:https://business.miltonchamber.ca/events/details/36th-annual-golf-tournament-385
END:VEVENT

END:VCALENDAR
