BEGIN:VCALENDAR
VERSION:2.0
PRODID:-//ChamberMaster//Event Calendar 2.0//EN
METHOD:PUBLISH
X-PUBLISHED-TTL:P3D
REFRESH-INTERVAL:P3D
CALSCALE:GREGORIAN
BEGIN:VEVENT
DTSTART:20260529T123000Z
DTEND:20260529T143000Z
X-MICROSOFT-CDO-ALLDAYEVENT:FALSE
SUMMARY:State of the Economy
DESCRIPTION:Discover the latest economic insights with speakers Daniel Tisch\, President & CEO of the Ontario Chamber of Commerce\, and Robert Hogue\, Assistant Chief Economist at RBC. Gain a deeper understanding of market trends\, policy shifts\, and the global forces driving today's economy.\n\n\nSPEAKER PROFILES\n\n\n\nRobert Hogue\n\nAssistant Chief Economist\, RBC\n\nRobert Hogue is a member of the RBC Economics team\, responsible for providing analysis and forecasts on the Canadian housing market and provincial economies.  His publications include Housing Trends and Affordability\, Provincial Outlook and provincial budget commentaries.  In his functions\, he is frequently called to comment on the economy both internally within RBC and externally with clients and the media.\n\n \n\nRobert joined RBC in May 2008 after spending 15 years with another Canadian financial institution as a senior economist specializing in industrial analysis. At the outset of his career\, he spent four years as an economist with Ontario Hydro\, where he specialized in industrial and macroeconomic analysis.  Robert holds a Master's degree in economics from Queen's University and a Bachelor's degree from Universit  de Montr al.\n\n\n\nDaniel Tisch Echevarria\, APR\, FCPRS\, ICD.D\n\nPresident & CEO\, Ontario Chamber of Commerce\n\nDaniel Tisch is a business\, public policy\, and community leader\, having held executive roles in government and the corporate sector\, and senior governance roles at public institutions and non-profit associations. He is known globally as an expert in corporate communications\, public policy\, community engagement\, crisis and reputation management.\n\n \n\nFrom 2003 to 2023\, Daniel was CEO\, principal shareholder and the driving force in building Argyle Communications (now Changemakers) into Canada's largest management-owned engagement\, communication and reputation advisory firm growing to $40M in revenue\, 175 employees and ten North American offices by 2023. Earlier in his career\, Daniel held senior communications roles in the Canadian government\, including serving as Senior Policy Advisor and Acting Chief of Staff to Canada's Minister of Foreign Affairs. In the latter role\, he was a member of the Canadian delegation to the G7 Economic Summit.\n\n\n\nDaniel has spoken to business audiences on every continent\, lectured at Queen's University's Smith School of Business since 1996\, and contributed to leading public relations and marketing textbooks. He appears regularly in print and broadcast media\, including weekly commentary on CBC Radio and Global News during the 2019 and 2021 Canadian federal elections. In 2021\, Daniel was named one of the world's "top 100" social media influencers on public relations.\n\n \n\nBorn in Spain to a Latin American family and raised in Toronto\, Daniel speaks English\, French and Spanish. He holds two degrees from Queen's University   a Bachelor of Arts in Political Studies and a Master of Business Administration. He is also a certified corporate director\, with an ICD.D designation in corporate governance from the University of Toronto. Daniel has served as vice chair of the Queen's University Board of Trustees\, a leader in the international Scouting movement and a board member of Social Venture Partners International.\n\n \n\nIn 2025\, Daniel was awarded the King Charles III Coronation Medal for his contributions to his community\, the province and the country.
X-ALT-DESC;FMTTYPE=text/html:<p>Discover the latest economic insights with speakers Daniel Tisch\, President &amp\; CEO of the Ontario Chamber of Commerce\, and Robert Hogue\, Assistant Chief Economist at RBC. Gain a deeper understanding of market trends\, policy shifts\, and the global forces driving today&rsquo\;s economy.</p>\n\n<hr />\n<p><strong>SPEAKER PROFILES</strong><br />\n<br />\n<strong>Robert Hogue<br />\nAssistant Chief Economist\, RBC</strong><br />\nRobert Hogue is a member of the RBC Economics team\, responsible for providing analysis and forecasts on the Canadian housing market and provincial economies.&nbsp\; His publications include Housing Trends and Affordability\, Provincial Outlook and provincial budget commentaries.&nbsp\; In his functions\, he is frequently called to comment on the economy both internally within RBC and externally with clients and the media.<br />\n&nbsp\;<br />\nRobert joined RBC in May 2008 after spending 15 years with another Canadian financial institution as a senior economist specializing in industrial analysis. At the outset of his career\, he spent four years as an economist with Ontario Hydro\, where he specialized in industrial and macroeconomic analysis.&nbsp\; Robert holds a Master&rsquo\;s degree in economics from Queen&rsquo\;s University and a Bachelor&rsquo\;s degree from Universit&eacute\; de Montr&eacute\;al.<br />\n<br />\n<strong>Daniel Tisch Echevarria\, APR\, FCPRS\, ICD.D</strong><br />\nPresident &amp\; CEO\, Ontario Chamber of Commerce<br />\nDaniel Tisch is a business\, public policy\, and community leader\, having held executive roles in government and the corporate sector\, and senior governance roles at public institutions and non-profit associations. He is known globally as an expert in corporate communications\, public policy\, community engagement\, crisis and reputation management.<br />\n&nbsp\;<br />\nFrom 2003 to 2023\, Daniel was CEO\, principal shareholder and the driving force in building Argyle Communications (now Changemakers) into Canada&rsquo\;s largest management-owned engagement\, communication and reputation advisory firm growing to $40M in revenue\, 175 employees and ten North American offices by 2023. Earlier in his career\, Daniel held senior communications roles in the Canadian government\, including serving as Senior Policy Advisor and Acting Chief of Staff to Canada&rsquo\;s Minister of Foreign Affairs. In the latter role\, he was a member of the Canadian delegation to the G7 Economic Summit.<br />\n<br />\nDaniel has spoken to business audiences on every continent\, lectured at Queen&rsquo\;s University&rsquo\;s Smith School of Business since 1996\, and contributed to leading public relations and marketing textbooks. He appears regularly in print and broadcast media\, including weekly commentary on CBC Radio and Global News during the 2019 and 2021 Canadian federal elections. In 2021\, Daniel was named one of the world&rsquo\;s &ldquo\;top 100&rdquo\; social media influencers on public relations.<br />\n&nbsp\;<br />\nBorn in Spain to a Latin American family and raised in Toronto\, Daniel speaks English\, French and Spanish. He holds two degrees from Queen&rsquo\;s University &mdash\; a Bachelor of Arts in Political Studies and a Master of Business Administration. He is also a certified corporate director\, with an ICD.D designation in corporate governance from the University of Toronto. Daniel has served as vice chair of the Queen&rsquo\;s University Board of Trustees\, a leader in the international Scouting movement and a board member of Social Venture Partners International.<br />\n&nbsp\;<br />\nIn 2025\, Daniel was awarded the King Charles III Coronation Medal for his contributions to his community\, the province and the country.</p>\n
LOCATION:Piper's Heath Golf Club 5501 Trafalgar Rd\, Milton\, ON L9E 0Z5
UID:e.3447.428
SEQUENCE:3
DTSTAMP:20260423T023417Z
URL:http://business.miltonchamber.ca/events/details/state-of-the-economy-05-29-2026-428
END:VEVENT

END:VCALENDAR
