BEGIN:VCALENDAR
VERSION:2.0
PRODID:-//ChamberMaster//Event Calendar 2.0//EN
METHOD:PUBLISH
X-PUBLISHED-TTL:P3D
REFRESH-INTERVAL:P3D
CALSCALE:GREGORIAN
BEGIN:VEVENT
DTSTART:20260526T210000Z
DTEND:20260526T230000Z
X-MICROSOFT-CDO-ALLDAYEVENT:FALSE
SUMMARY:Business After Hours - May 2026
DESCRIPTION:Hosted by: Wilfrid Laurier University - Milton Campus
X-ALT-DESC;FMTTYPE=text/html:<font color="#000000" face="arial\, sans-serif">Hosted by:&nbsp\;</font>Wilfrid Laurier University - Milton Campus
LOCATION:Wilfrid Laurier University - Milton Campus 555 Industrial Dr. Milton\, ON Main Lobby
UID:e.3447.433
SEQUENCE:3
DTSTAMP:20260423T001647Z
URL:http://business.miltonchamber.ca/events/details/business-after-hours-may-2026-433
END:VEVENT

END:VCALENDAR
